BEGIN:VCALENDAR
VERSION:2.0
PRODID:-//Fairgrounds Golf Course in Santa Rosa, CA - ECPv6.15.20//NONSGML v1.0//EN
CALSCALE:GREGORIAN
METHOD:PUBLISH
X-WR-CALNAME:Fairgrounds Golf Course in Santa Rosa, CA
X-ORIGINAL-URL:https://www.fairgroundsgolfcourse.com
X-WR-CALDESC:Events for Fairgrounds Golf Course in Santa Rosa, CA
REFRESH-INTERVAL;VALUE=DURATION:PT1H
X-Robots-Tag:noindex
X-PUBLISHED-TTL:PT1H
BEGIN:VTIMEZONE
TZID:America/New_York
BEGIN:DAYLIGHT
TZOFFSETFROM:-0500
TZOFFSETTO:-0400
TZNAME:EDT
DTSTART:20190310T070000
END:DAYLIGHT
BEGIN:STANDARD
TZOFFSETFROM:-0400
TZOFFSETTO:-0500
TZNAME:EST
DTSTART:20191103T060000
END:STANDARD
BEGIN:DAYLIGHT
TZOFFSETFROM:-0500
TZOFFSETTO:-0400
TZNAME:EDT
DTSTART:20200308T070000
END:DAYLIGHT
BEGIN:STANDARD
TZOFFSETFROM:-0400
TZOFFSETTO:-0500
TZNAME:EST
DTSTART:20201101T060000
END:STANDARD
BEGIN:DAYLIGHT
TZOFFSETFROM:-0500
TZOFFSETTO:-0400
TZNAME:EDT
DTSTART:20210314T070000
END:DAYLIGHT
BEGIN:STANDARD
TZOFFSETFROM:-0400
TZOFFSETTO:-0500
TZNAME:EST
DTSTART:20211107T060000
END:STANDARD
END:VTIMEZONE
BEGIN:VEVENT
DTSTART;VALUE=DATE:20201111
DTEND;VALUE=DATE:20201112
DTSTAMP:20260425T031607
CREATED:20201106T204128Z
LAST-MODIFIED:20201106T204246Z
UID:5974-1605052800-1605139199@www.fairgroundsgolfcourse.com
SUMMARY:Veterans Day
DESCRIPTION:We appreciate you!\nTo thank you for your service\, we are giving Veterans and Active Duty\nFREE Greens Fees on Wednesday\, November 11th.\nPlease present military ID at checkin. Cart not included. \n  \nBOOK ONLINE
URL:https://www.fairgroundsgolfcourse.com/event/we-appreciate-you/
ATTACH;FMTTYPE=image/png:https://www.fairgroundsgolfcourse.com/wp-content/uploads/2020/11/5-5.png
END:VEVENT
BEGIN:VEVENT
DTSTART;VALUE=DATE:20201118
DTEND;VALUE=DATE:20201119
DTSTAMP:20260425T031607
CREATED:20201117T012729Z
LAST-MODIFIED:20201117T012729Z
UID:5997-1605657600-1605743999@www.fairgroundsgolfcourse.com
SUMMARY:Heroes Day!
DESCRIPTION:We appreciate you.\nAll Frontline Healthcare Workers\, EMS\, Police\, Firefighters \nwill receive a FREE Greens Fee on Wednesday\, November 18th for Heroes Day! \nPlease present occupational ID at check-in. Cart not included. \n  \nPoor Weather Ahead? We have a covered driving range!\nIf you can’t come out and play a round\, please enjoy a complimentary range bucket instead.
URL:https://www.fairgroundsgolfcourse.com/event/heroes-day/
ATTACH;FMTTYPE=image/png:https://www.fairgroundsgolfcourse.com/wp-content/uploads/2020/11/Heroes-Day-_-Tayman.png
END:VEVENT
BEGIN:VEVENT
DTSTART;VALUE=DATE:20201123
DTEND;VALUE=DATE:20201201
DTSTAMP:20260425T031607
CREATED:20201118T023212Z
LAST-MODIFIED:20201118T023212Z
UID:6014-1606089600-1606780799@www.fairgroundsgolfcourse.com
SUMMARY:Black Friday Sale
DESCRIPTION:Black Friday Sale!\nSpecials will be available from November 23-30. \n➡️ SHOP ONLINE
URL:https://www.fairgroundsgolfcourse.com/event/black-friday-sale/
ATTACH;FMTTYPE=image/png:https://www.fairgroundsgolfcourse.com/wp-content/uploads/2020/11/LoB-5-_-Black-Friday-2020-fb-banner.png
END:VEVENT
END:VCALENDAR