BEGIN:VCALENDAR
VERSION:2.0
PRODID:-//Fairgrounds Golf Course in Santa Rosa, CA - ECPv6.15.20//NONSGML v1.0//EN
CALSCALE:GREGORIAN
METHOD:PUBLISH
X-ORIGINAL-URL:https://www.fairgroundsgolfcourse.com
X-WR-CALDESC:Events for Fairgrounds Golf Course in Santa Rosa, CA
REFRESH-INTERVAL;VALUE=DURATION:PT1H
X-Robots-Tag:noindex
X-PUBLISHED-TTL:PT1H
BEGIN:VTIMEZONE
TZID:America/New_York
BEGIN:DAYLIGHT
TZOFFSETFROM:-0500
TZOFFSETTO:-0400
TZNAME:EDT
DTSTART:20190310T070000
END:DAYLIGHT
BEGIN:STANDARD
TZOFFSETFROM:-0400
TZOFFSETTO:-0500
TZNAME:EST
DTSTART:20191103T060000
END:STANDARD
BEGIN:DAYLIGHT
TZOFFSETFROM:-0500
TZOFFSETTO:-0400
TZNAME:EDT
DTSTART:20200308T070000
END:DAYLIGHT
BEGIN:STANDARD
TZOFFSETFROM:-0400
TZOFFSETTO:-0500
TZNAME:EST
DTSTART:20201101T060000
END:STANDARD
BEGIN:DAYLIGHT
TZOFFSETFROM:-0500
TZOFFSETTO:-0400
TZNAME:EDT
DTSTART:20210314T070000
END:DAYLIGHT
BEGIN:STANDARD
TZOFFSETFROM:-0400
TZOFFSETTO:-0500
TZNAME:EST
DTSTART:20211107T060000
END:STANDARD
END:VTIMEZONE
BEGIN:VEVENT
DTSTART;VALUE=DATE:20200618
DTEND;VALUE=DATE:20200622
DTSTAMP:20260425T171743
CREATED:20200619T003705Z
LAST-MODIFIED:20200619T003852Z
UID:5901-1592438400-1592783999@www.fairgroundsgolfcourse.com
SUMMARY:Father's Day Sale
DESCRIPTION:FATHER’S DAY SALE AT THE FAIRGROUNDS\n\n\n\n\n\n\n\nhttp://createsend.com/t/t-6F7B2ED1A5D85BF22540EF23F30FEDED\n\n\nGOLF BUNDLE SPECIAL\nGIFT CARDS\nGOLF BALL PROMOTION
URL:https://www.fairgroundsgolfcourse.com/event/fathers-day-sale/
CATEGORIES:Upcoming Events
ATTACH;FMTTYPE=image/jpeg:https://www.fairgroundsgolfcourse.com/wp-content/uploads/2020/06/Orange-FD-blog.jpg
END:VEVENT
END:VCALENDAR